BEGIN:VCALENDAR
VERSION:2.0
PRODID:-//The SigPro Studio - ECPv6.15.20//NONSGML v1.0//EN
CALSCALE:GREGORIAN
METHOD:PUBLISH
X-ORIGINAL-URL:https://thesigprostudio.com
X-WR-CALDESC:Events for The SigPro Studio
REFRESH-INTERVAL;VALUE=DURATION:PT1H
X-Robots-Tag:noindex
X-PUBLISHED-TTL:PT1H
BEGIN:VTIMEZONE
TZID:America/Halifax
BEGIN:DAYLIGHT
TZOFFSETFROM:-0400
TZOFFSETTO:-0300
TZNAME:ADT
DTSTART:20250309T060000
END:DAYLIGHT
BEGIN:STANDARD
TZOFFSETFROM:-0300
TZOFFSETTO:-0400
TZNAME:AST
DTSTART:20251102T050000
END:STANDARD
BEGIN:DAYLIGHT
TZOFFSETFROM:-0400
TZOFFSETTO:-0300
TZNAME:ADT
DTSTART:20260308T060000
END:DAYLIGHT
BEGIN:STANDARD
TZOFFSETFROM:-0300
TZOFFSETTO:-0400
TZNAME:AST
DTSTART:20261101T050000
END:STANDARD
BEGIN:DAYLIGHT
TZOFFSETFROM:-0400
TZOFFSETTO:-0300
TZNAME:ADT
DTSTART:20270314T060000
END:DAYLIGHT
BEGIN:STANDARD
TZOFFSETFROM:-0300
TZOFFSETTO:-0400
TZNAME:AST
DTSTART:20271107T050000
END:STANDARD
END:VTIMEZONE
BEGIN:VEVENT
DTSTART;TZID=America/Halifax:20261117T190000
DTEND;TZID=America/Halifax:20261117T190000
DTSTAMP:20260423T082928
CREATED:20260406T170027Z
LAST-MODIFIED:20260420T191806Z
UID:10000138-1794942000-1794942000@thesigprostudio.com
SUMMARY:Fat Man'sPreview
DESCRIPTION:
URL:https://thesigprostudio.com/event/fat-mans/
CATEGORIES:Fat Man's
END:VEVENT
BEGIN:VEVENT
DTSTART;TZID=America/Halifax:20261118T190000
DTEND;TZID=America/Halifax:20261118T190000
DTSTAMP:20260423T082928
CREATED:20260406T184354Z
LAST-MODIFIED:20260420T191814Z
UID:10000223-1795028400-1795028400@thesigprostudio.com
SUMMARY:Fat Man'sPreview
DESCRIPTION:
URL:https://thesigprostudio.com/event/fat-mans-2/
CATEGORIES:Fat Man's
END:VEVENT
BEGIN:VEVENT
DTSTART;TZID=America/Halifax:20261119T190000
DTEND;TZID=America/Halifax:20261119T190000
DTSTAMP:20260423T082928
CREATED:20260406T184516Z
LAST-MODIFIED:20260420T191821Z
UID:10000224-1795114800-1795114800@thesigprostudio.com
SUMMARY:Fat Man'sPreview
DESCRIPTION:
URL:https://thesigprostudio.com/event/fat-mans-3/
CATEGORIES:Fat Man's
END:VEVENT
BEGIN:VEVENT
DTSTART;TZID=America/Halifax:20261120T190000
DTEND;TZID=America/Halifax:20261120T190000
DTSTAMP:20260423T082928
CREATED:20260406T184704Z
LAST-MODIFIED:20260420T191829Z
UID:10000225-1795201200-1795201200@thesigprostudio.com
SUMMARY:Fat Man'sOpening
DESCRIPTION:
URL:https://thesigprostudio.com/event/fat-mans-4/
CATEGORIES:Fat Man's
END:VEVENT
BEGIN:VEVENT
DTSTART;TZID=America/Halifax:20261121T190000
DTEND;TZID=America/Halifax:20261121T190000
DTSTAMP:20260423T082928
CREATED:20260406T184816Z
LAST-MODIFIED:20260406T202756Z
UID:10000226-1795287600-1795287600@thesigprostudio.com
SUMMARY:Fat Man's
DESCRIPTION:
URL:https://thesigprostudio.com/event/fat-mans-5/
CATEGORIES:Fat Man's
END:VEVENT
BEGIN:VEVENT
DTSTART;TZID=America/Halifax:20261125T190000
DTEND;TZID=America/Halifax:20261125T190000
DTSTAMP:20260423T082928
CREATED:20260406T184955Z
LAST-MODIFIED:20260406T202752Z
UID:10000227-1795633200-1795633200@thesigprostudio.com
SUMMARY:Fat Man's
DESCRIPTION:
URL:https://thesigprostudio.com/event/fat-mans-6/
CATEGORIES:Fat Man's
END:VEVENT
BEGIN:VEVENT
DTSTART;TZID=America/Halifax:20261127T190000
DTEND;TZID=America/Halifax:20261127T190000
DTSTAMP:20260423T082928
CREATED:20260406T185347Z
LAST-MODIFIED:20260406T202743Z
UID:10000228-1795806000-1795806000@thesigprostudio.com
SUMMARY:Fat Man's
DESCRIPTION:
URL:https://thesigprostudio.com/event/fat-mans-7/
CATEGORIES:Fat Man's
END:VEVENT
BEGIN:VEVENT
DTSTART;TZID=America/Halifax:20261128T130000
DTEND;TZID=America/Halifax:20261128T130000
DTSTAMP:20260423T082928
CREATED:20260406T195903Z
LAST-MODIFIED:20260406T202738Z
UID:10000244-1795870800-1795870800@thesigprostudio.com
SUMMARY:Fat Man's
DESCRIPTION:
URL:https://thesigprostudio.com/event/fat-mans-23/
CATEGORIES:Fat Man's
END:VEVENT
BEGIN:VEVENT
DTSTART;TZID=America/Halifax:20261128T190000
DTEND;TZID=America/Halifax:20261128T190000
DTSTAMP:20260423T082928
CREATED:20260406T185520Z
LAST-MODIFIED:20260406T202734Z
UID:10000229-1795892400-1795892400@thesigprostudio.com
SUMMARY:Fat Man's
DESCRIPTION:
URL:https://thesigprostudio.com/event/fat-mans-8/
CATEGORIES:Fat Man's
END:VEVENT
END:VCALENDAR