BEGIN:VCALENDAR
VERSION:2.0
PRODID:-//The SigPro Studio - ECPv6.15.20//NONSGML v1.0//EN
CALSCALE:GREGORIAN
METHOD:PUBLISH
X-WR-CALNAME:The SigPro Studio
X-ORIGINAL-URL:https://thesigprostudio.com
X-WR-CALDESC:Events for The SigPro Studio
REFRESH-INTERVAL;VALUE=DURATION:PT1H
X-Robots-Tag:noindex
X-PUBLISHED-TTL:PT1H
BEGIN:VTIMEZONE
TZID:America/Halifax
BEGIN:DAYLIGHT
TZOFFSETFROM:-0400
TZOFFSETTO:-0300
TZNAME:ADT
DTSTART:20250309T060000
END:DAYLIGHT
BEGIN:STANDARD
TZOFFSETFROM:-0300
TZOFFSETTO:-0400
TZNAME:AST
DTSTART:20251102T050000
END:STANDARD
BEGIN:DAYLIGHT
TZOFFSETFROM:-0400
TZOFFSETTO:-0300
TZNAME:ADT
DTSTART:20260308T060000
END:DAYLIGHT
BEGIN:STANDARD
TZOFFSETFROM:-0300
TZOFFSETTO:-0400
TZNAME:AST
DTSTART:20261101T050000
END:STANDARD
BEGIN:DAYLIGHT
TZOFFSETFROM:-0400
TZOFFSETTO:-0300
TZNAME:ADT
DTSTART:20270314T060000
END:DAYLIGHT
BEGIN:STANDARD
TZOFFSETFROM:-0300
TZOFFSETTO:-0400
TZNAME:AST
DTSTART:20271107T050000
END:STANDARD
END:VTIMEZONE
BEGIN:VEVENT
DTSTART;TZID=America/Halifax:20261021T190000
DTEND;TZID=America/Halifax:20261021T190000
DTSTAMP:20260423T120540
CREATED:20260406T180007Z
LAST-MODIFIED:20260420T172456Z
UID:10000212-1792609200-1792609200@thesigprostudio.com
SUMMARY:Chicken and Biscuits
DESCRIPTION:
URL:https://thesigprostudio.com/event/chicken-and-biscuits-25/
CATEGORIES:Chicken & Biscuits
END:VEVENT
BEGIN:VEVENT
DTSTART;TZID=America/Halifax:20261022T190000
DTEND;TZID=America/Halifax:20261022T190000
DTSTAMP:20260423T120540
CREATED:20260406T173255Z
LAST-MODIFIED:20260420T172754Z
UID:10000213-1792695600-1792695600@thesigprostudio.com
SUMMARY:Chicken and Biscuits
DESCRIPTION:
URL:https://thesigprostudio.com/event/chicken-and-biscuits-26/
CATEGORIES:Chicken & Biscuits
END:VEVENT
BEGIN:VEVENT
DTSTART;TZID=America/Halifax:20261023T190000
DTEND;TZID=America/Halifax:20261023T190000
DTSTAMP:20260423T120540
CREATED:20260406T172948Z
LAST-MODIFIED:20260420T172830Z
UID:10000214-1792782000-1792782000@thesigprostudio.com
SUMMARY:Chicken and Biscuits
DESCRIPTION:
URL:https://thesigprostudio.com/event/chicken-and-biscuits-27/
CATEGORIES:Chicken & Biscuits
END:VEVENT
BEGIN:VEVENT
DTSTART;TZID=America/Halifax:20261024T130000
DTEND;TZID=America/Halifax:20261024T130000
DTSTAMP:20260423T120540
CREATED:20260406T180036Z
LAST-MODIFIED:20260420T172019Z
UID:10000216-1792846800-1792846800@thesigprostudio.com
SUMMARY:Chicken and Biscuits
DESCRIPTION:
URL:https://thesigprostudio.com/event/chicken-and-biscuits-29/
CATEGORIES:Chicken & Biscuits
END:VEVENT
BEGIN:VEVENT
DTSTART;TZID=America/Halifax:20261024T190000
DTEND;TZID=America/Halifax:20261024T190000
DTSTAMP:20260423T120540
CREATED:20260406T180017Z
LAST-MODIFIED:20260420T190904Z
UID:10000215-1792868400-1792868400@thesigprostudio.com
SUMMARY:Chicken and BiscuitsClosing
DESCRIPTION:
URL:https://thesigprostudio.com/event/chicken-and-biscuits-28/
CATEGORIES:Chicken & Biscuits
END:VEVENT
BEGIN:VEVENT
DTSTART;TZID=America/Halifax:20261117T190000
DTEND;TZID=America/Halifax:20261117T190000
DTSTAMP:20260423T120540
CREATED:20260406T170027Z
LAST-MODIFIED:20260420T191806Z
UID:10000138-1794942000-1794942000@thesigprostudio.com
SUMMARY:Fat Man'sPreview
DESCRIPTION:
URL:https://thesigprostudio.com/event/fat-mans/
CATEGORIES:Fat Man's
END:VEVENT
BEGIN:VEVENT
DTSTART;TZID=America/Halifax:20261118T190000
DTEND;TZID=America/Halifax:20261118T190000
DTSTAMP:20260423T120540
CREATED:20260406T184354Z
LAST-MODIFIED:20260420T191814Z
UID:10000223-1795028400-1795028400@thesigprostudio.com
SUMMARY:Fat Man'sPreview
DESCRIPTION:
URL:https://thesigprostudio.com/event/fat-mans-2/
CATEGORIES:Fat Man's
END:VEVENT
BEGIN:VEVENT
DTSTART;TZID=America/Halifax:20261119T190000
DTEND;TZID=America/Halifax:20261119T190000
DTSTAMP:20260423T120540
CREATED:20260406T184516Z
LAST-MODIFIED:20260420T191821Z
UID:10000224-1795114800-1795114800@thesigprostudio.com
SUMMARY:Fat Man'sPreview
DESCRIPTION:
URL:https://thesigprostudio.com/event/fat-mans-3/
CATEGORIES:Fat Man's
END:VEVENT
BEGIN:VEVENT
DTSTART;TZID=America/Halifax:20261120T190000
DTEND;TZID=America/Halifax:20261120T190000
DTSTAMP:20260423T120540
CREATED:20260406T184704Z
LAST-MODIFIED:20260420T191829Z
UID:10000225-1795201200-1795201200@thesigprostudio.com
SUMMARY:Fat Man'sOpening
DESCRIPTION:
URL:https://thesigprostudio.com/event/fat-mans-4/
CATEGORIES:Fat Man's
END:VEVENT
BEGIN:VEVENT
DTSTART;TZID=America/Halifax:20261121T190000
DTEND;TZID=America/Halifax:20261121T190000
DTSTAMP:20260423T120540
CREATED:20260406T184816Z
LAST-MODIFIED:20260406T202756Z
UID:10000226-1795287600-1795287600@thesigprostudio.com
SUMMARY:Fat Man's
DESCRIPTION:
URL:https://thesigprostudio.com/event/fat-mans-5/
CATEGORIES:Fat Man's
END:VEVENT
BEGIN:VEVENT
DTSTART;TZID=America/Halifax:20261125T190000
DTEND;TZID=America/Halifax:20261125T190000
DTSTAMP:20260423T120540
CREATED:20260406T184955Z
LAST-MODIFIED:20260406T202752Z
UID:10000227-1795633200-1795633200@thesigprostudio.com
SUMMARY:Fat Man's
DESCRIPTION:
URL:https://thesigprostudio.com/event/fat-mans-6/
CATEGORIES:Fat Man's
END:VEVENT
BEGIN:VEVENT
DTSTART;TZID=America/Halifax:20261127T190000
DTEND;TZID=America/Halifax:20261127T190000
DTSTAMP:20260423T120540
CREATED:20260406T185347Z
LAST-MODIFIED:20260406T202743Z
UID:10000228-1795806000-1795806000@thesigprostudio.com
SUMMARY:Fat Man's
DESCRIPTION:
URL:https://thesigprostudio.com/event/fat-mans-7/
CATEGORIES:Fat Man's
END:VEVENT
BEGIN:VEVENT
DTSTART;TZID=America/Halifax:20261128T130000
DTEND;TZID=America/Halifax:20261128T130000
DTSTAMP:20260423T120540
CREATED:20260406T195903Z
LAST-MODIFIED:20260406T202738Z
UID:10000244-1795870800-1795870800@thesigprostudio.com
SUMMARY:Fat Man's
DESCRIPTION:
URL:https://thesigprostudio.com/event/fat-mans-23/
CATEGORIES:Fat Man's
END:VEVENT
BEGIN:VEVENT
DTSTART;TZID=America/Halifax:20261128T190000
DTEND;TZID=America/Halifax:20261128T190000
DTSTAMP:20260423T120540
CREATED:20260406T185520Z
LAST-MODIFIED:20260406T202734Z
UID:10000229-1795892400-1795892400@thesigprostudio.com
SUMMARY:Fat Man's
DESCRIPTION:
URL:https://thesigprostudio.com/event/fat-mans-8/
CATEGORIES:Fat Man's
END:VEVENT
BEGIN:VEVENT
DTSTART;TZID=America/Halifax:20261201T190000
DTEND;TZID=America/Halifax:20261201T190000
DTSTAMP:20260423T120540
CREATED:20260406T185752Z
LAST-MODIFIED:20260406T202728Z
UID:10000230-1796151600-1796151600@thesigprostudio.com
SUMMARY:Fat Man's
DESCRIPTION:
URL:https://thesigprostudio.com/event/fat-mans-9/
CATEGORIES:Fat Man's
END:VEVENT
BEGIN:VEVENT
DTSTART;TZID=America/Halifax:20261202T190000
DTEND;TZID=America/Halifax:20261202T190000
DTSTAMP:20260423T120540
CREATED:20260406T200015Z
LAST-MODIFIED:20260407T200125Z
UID:10000245-1796238000-1796238000@thesigprostudio.com
SUMMARY:Fat Man's
DESCRIPTION:
URL:https://thesigprostudio.com/event/fat-mans-24/
CATEGORIES:Fat Man's
END:VEVENT
BEGIN:VEVENT
DTSTART;TZID=America/Halifax:20261203T190000
DTEND;TZID=America/Halifax:20261203T190000
DTSTAMP:20260423T120540
CREATED:20260406T190119Z
LAST-MODIFIED:20260406T202720Z
UID:10000231-1796324400-1796324400@thesigprostudio.com
SUMMARY:Fat Man's
DESCRIPTION:
URL:https://thesigprostudio.com/event/fat-mans-10/
CATEGORIES:Fat Man's
END:VEVENT
BEGIN:VEVENT
DTSTART;TZID=America/Halifax:20261204T190000
DTEND;TZID=America/Halifax:20261204T190000
DTSTAMP:20260423T120540
CREATED:20260406T190320Z
LAST-MODIFIED:20260406T202711Z
UID:10000232-1796410800-1796410800@thesigprostudio.com
SUMMARY:Fat Man's
DESCRIPTION:
URL:https://thesigprostudio.com/event/fat-mans-11/
CATEGORIES:Fat Man's
END:VEVENT
BEGIN:VEVENT
DTSTART;TZID=America/Halifax:20261205T130000
DTEND;TZID=America/Halifax:20261205T130000
DTSTAMP:20260423T120540
CREATED:20260406T200127Z
LAST-MODIFIED:20260406T202709Z
UID:10000246-1796475600-1796475600@thesigprostudio.com
SUMMARY:Fat Man's
DESCRIPTION:
URL:https://thesigprostudio.com/event/fat-mans-25/
CATEGORIES:Fat Man's
END:VEVENT
BEGIN:VEVENT
DTSTART;TZID=America/Halifax:20261205T190000
DTEND;TZID=America/Halifax:20261205T190000
DTSTAMP:20260423T120540
CREATED:20260406T190822Z
LAST-MODIFIED:20260406T202659Z
UID:10000233-1796497200-1796497200@thesigprostudio.com
SUMMARY:Fat Man's
DESCRIPTION:
URL:https://thesigprostudio.com/event/fat-mans-12/
CATEGORIES:Fat Man's
END:VEVENT
BEGIN:VEVENT
DTSTART;TZID=America/Halifax:20261209T190000
DTEND;TZID=America/Halifax:20261209T190000
DTSTAMP:20260423T120540
CREATED:20260406T191041Z
LAST-MODIFIED:20260407T200432Z
UID:10000234-1796842800-1796842800@thesigprostudio.com
SUMMARY:Fat Man's ASL Performance
DESCRIPTION:
URL:https://thesigprostudio.com/event/fat-mans-13/
CATEGORIES:Fat Man's
END:VEVENT
BEGIN:VEVENT
DTSTART;TZID=America/Halifax:20261210T130000
DTEND;TZID=America/Halifax:20261210T130000
DTSTAMP:20260423T120540
CREATED:20260406T200242Z
LAST-MODIFIED:20260420T191840Z
UID:10000247-1796907600-1796907600@thesigprostudio.com
SUMMARY:Fat Man'sTalkback
DESCRIPTION:
URL:https://thesigprostudio.com/event/fat-mans-26/
CATEGORIES:Fat Man's
END:VEVENT
BEGIN:VEVENT
DTSTART;TZID=America/Halifax:20261210T190000
DTEND;TZID=America/Halifax:20261210T190000
DTSTAMP:20260423T120540
CREATED:20260406T194700Z
LAST-MODIFIED:20260406T202515Z
UID:10000235-1796929200-1796929200@thesigprostudio.com
SUMMARY:Fat Man's
DESCRIPTION:
URL:https://thesigprostudio.com/event/fat-mans-14/
CATEGORIES:Fat Man's
END:VEVENT
BEGIN:VEVENT
DTSTART;TZID=America/Halifax:20261211T190000
DTEND;TZID=America/Halifax:20261211T190000
DTSTAMP:20260423T120540
CREATED:20260406T194830Z
LAST-MODIFIED:20260406T202511Z
UID:10000236-1797015600-1797015600@thesigprostudio.com
SUMMARY:Fat Man's
DESCRIPTION:
URL:https://thesigprostudio.com/event/fat-mans-15/
CATEGORIES:Fat Man's
END:VEVENT
BEGIN:VEVENT
DTSTART;TZID=America/Halifax:20261212T130000
DTEND;TZID=America/Halifax:20261212T130000
DTSTAMP:20260423T120540
CREATED:20260406T200352Z
LAST-MODIFIED:20260406T202506Z
UID:10000248-1797080400-1797080400@thesigprostudio.com
SUMMARY:Fat Man's
DESCRIPTION:
URL:https://thesigprostudio.com/event/fat-mans-27/
CATEGORIES:Fat Man's
END:VEVENT
BEGIN:VEVENT
DTSTART;TZID=America/Halifax:20261212T190000
DTEND;TZID=America/Halifax:20261212T190000
DTSTAMP:20260423T120540
CREATED:20260406T195017Z
LAST-MODIFIED:20260406T202458Z
UID:10000237-1797102000-1797102000@thesigprostudio.com
SUMMARY:Fat Man's
DESCRIPTION:
URL:https://thesigprostudio.com/event/fat-mans-16/
CATEGORIES:Fat Man's
END:VEVENT
BEGIN:VEVENT
DTSTART;TZID=America/Halifax:20261215T190000
DTEND;TZID=America/Halifax:20261215T190000
DTSTAMP:20260423T120540
CREATED:20260406T195132Z
LAST-MODIFIED:20260406T202452Z
UID:10000238-1797361200-1797361200@thesigprostudio.com
SUMMARY:Fat Man's
DESCRIPTION:
URL:https://thesigprostudio.com/event/fat-mans-17/
CATEGORIES:Fat Man's
END:VEVENT
BEGIN:VEVENT
DTSTART;TZID=America/Halifax:20261216T190000
DTEND;TZID=America/Halifax:20261216T190000
DTSTAMP:20260423T120540
CREATED:20260406T195236Z
LAST-MODIFIED:20260406T202445Z
UID:10000239-1797447600-1797447600@thesigprostudio.com
SUMMARY:Fat Man's
DESCRIPTION:
URL:https://thesigprostudio.com/event/fat-mans-18/
CATEGORIES:Fat Man's
END:VEVENT
BEGIN:VEVENT
DTSTART;TZID=America/Halifax:20261217T190000
DTEND;TZID=America/Halifax:20261217T190000
DTSTAMP:20260423T120540
CREATED:20260406T195349Z
LAST-MODIFIED:20260406T202439Z
UID:10000240-1797534000-1797534000@thesigprostudio.com
SUMMARY:Fat Man's
DESCRIPTION:
URL:https://thesigprostudio.com/event/fat-mans-19/
CATEGORIES:Fat Man's
END:VEVENT
BEGIN:VEVENT
DTSTART;TZID=America/Halifax:20261218T190000
DTEND;TZID=America/Halifax:20261218T190000
DTSTAMP:20260423T120540
CREATED:20260406T195459Z
LAST-MODIFIED:20260406T202434Z
UID:10000241-1797620400-1797620400@thesigprostudio.com
SUMMARY:Fat Man's
DESCRIPTION:
URL:https://thesigprostudio.com/event/fat-mans-20/
CATEGORIES:Fat Man's
END:VEVENT
END:VCALENDAR