BEGIN:VCALENDAR
VERSION:2.0
PRODID:-//The SigPro Studio - ECPv6.15.20//NONSGML v1.0//EN
CALSCALE:GREGORIAN
METHOD:PUBLISH
X-ORIGINAL-URL:https://thesigprostudio.com
X-WR-CALDESC:Events for The SigPro Studio
REFRESH-INTERVAL;VALUE=DURATION:PT1H
X-Robots-Tag:noindex
X-PUBLISHED-TTL:PT1H
BEGIN:VTIMEZONE
TZID:America/Halifax
BEGIN:DAYLIGHT
TZOFFSETFROM:-0400
TZOFFSETTO:-0300
TZNAME:ADT
DTSTART:20260308T060000
END:DAYLIGHT
BEGIN:STANDARD
TZOFFSETFROM:-0300
TZOFFSETTO:-0400
TZNAME:AST
DTSTART:20261101T050000
END:STANDARD
BEGIN:DAYLIGHT
TZOFFSETFROM:-0400
TZOFFSETTO:-0300
TZNAME:ADT
DTSTART:20270314T060000
END:DAYLIGHT
BEGIN:STANDARD
TZOFFSETFROM:-0300
TZOFFSETTO:-0400
TZNAME:AST
DTSTART:20271107T050000
END:STANDARD
BEGIN:DAYLIGHT
TZOFFSETFROM:-0400
TZOFFSETTO:-0300
TZNAME:ADT
DTSTART:20280312T060000
END:DAYLIGHT
BEGIN:STANDARD
TZOFFSETFROM:-0300
TZOFFSETTO:-0400
TZNAME:AST
DTSTART:20281105T050000
END:STANDARD
END:VTIMEZONE
BEGIN:VEVENT
DTSTART;TZID=America/Halifax:20270417T190000
DTEND;TZID=America/Halifax:20270417T190000
DTSTAMP:20260423T203249
CREATED:20260413T192300Z
LAST-MODIFIED:20260413T192300Z
UID:10000268-1807988400-1807988400@thesigprostudio.com
SUMMARY:Primary Trust
DESCRIPTION:
URL:https://thesigprostudio.com/event/primary-trust-6/
CATEGORIES:Primary Trust
END:VEVENT
BEGIN:VEVENT
DTSTART;TZID=America/Halifax:20270421T190000
DTEND;TZID=America/Halifax:20270421T190000
DTSTAMP:20260423T203249
CREATED:20260413T191752Z
LAST-MODIFIED:20260413T192140Z
UID:10000267-1808334000-1808334000@thesigprostudio.com
SUMMARY:Primary Trust
DESCRIPTION:
URL:https://thesigprostudio.com/event/primary-trust-5/
CATEGORIES:Primary Trust
END:VEVENT
BEGIN:VEVENT
DTSTART;TZID=America/Halifax:20270422T130000
DTEND;TZID=America/Halifax:20270422T130000
DTSTAMP:20260423T203249
CREATED:20260413T192439Z
LAST-MODIFIED:20260420T192229Z
UID:10000269-1808398800-1808398800@thesigprostudio.com
SUMMARY:Primary TrustTalkback
DESCRIPTION:
URL:https://thesigprostudio.com/event/primary-trust-7/
CATEGORIES:Primary Trust
END:VEVENT
BEGIN:VEVENT
DTSTART;TZID=America/Halifax:20270422T190000
DTEND;TZID=America/Halifax:20270422T190000
DTSTAMP:20260423T203249
CREATED:20260413T192626Z
LAST-MODIFIED:20260413T192626Z
UID:10000270-1808420400-1808420400@thesigprostudio.com
SUMMARY:Primary Trust
DESCRIPTION:
URL:https://thesigprostudio.com/event/primary-trust-8/
CATEGORIES:Primary Trust
END:VEVENT
BEGIN:VEVENT
DTSTART;TZID=America/Halifax:20270423T190000
DTEND;TZID=America/Halifax:20270423T190000
DTSTAMP:20260423T203249
CREATED:20260413T192848Z
LAST-MODIFIED:20260413T192848Z
UID:10000271-1808506800-1808506800@thesigprostudio.com
SUMMARY:Primary Trust
DESCRIPTION:
URL:https://thesigprostudio.com/event/primary-trust-9/
CATEGORIES:Primary Trust
END:VEVENT
BEGIN:VEVENT
DTSTART;TZID=America/Halifax:20270424T130000
DTEND;TZID=America/Halifax:20270424T130000
DTSTAMP:20260423T203249
CREATED:20260413T200536Z
LAST-MODIFIED:20260413T200536Z
UID:10000287-1808571600-1808571600@thesigprostudio.com
SUMMARY:Primary Trust
DESCRIPTION:
URL:https://thesigprostudio.com/event/primary-trust-25/
CATEGORIES:Primary Trust
END:VEVENT
BEGIN:VEVENT
DTSTART;TZID=America/Halifax:20270424T190000
DTEND;TZID=America/Halifax:20270424T190000
DTSTAMP:20260423T203249
CREATED:20260413T193004Z
LAST-MODIFIED:20260413T193004Z
UID:10000272-1808593200-1808593200@thesigprostudio.com
SUMMARY:Primary Trust
DESCRIPTION:
URL:https://thesigprostudio.com/event/primary-trust-10/
CATEGORIES:Primary Trust
END:VEVENT
BEGIN:VEVENT
DTSTART;TZID=America/Halifax:20270427T190000
DTEND;TZID=America/Halifax:20270427T190000
DTSTAMP:20260423T203249
CREATED:20260413T193155Z
LAST-MODIFIED:20260413T193155Z
UID:10000273-1808852400-1808852400@thesigprostudio.com
SUMMARY:Primary Trust
DESCRIPTION:
URL:https://thesigprostudio.com/event/primary-trust-11/
CATEGORIES:Primary Trust
END:VEVENT
BEGIN:VEVENT
DTSTART;TZID=America/Halifax:20270428T190000
DTEND;TZID=America/Halifax:20270428T190000
DTSTAMP:20260423T203249
CREATED:20260413T193721Z
LAST-MODIFIED:20260413T193721Z
UID:10000274-1808938800-1808938800@thesigprostudio.com
SUMMARY:Primary Trust
DESCRIPTION:
URL:https://thesigprostudio.com/event/primary-trust-12/
CATEGORIES:Primary Trust
END:VEVENT
BEGIN:VEVENT
DTSTART;TZID=America/Halifax:20270429T190000
DTEND;TZID=America/Halifax:20270429T190000
DTSTAMP:20260423T203249
CREATED:20260413T194009Z
LAST-MODIFIED:20260413T194009Z
UID:10000275-1809025200-1809025200@thesigprostudio.com
SUMMARY:Primary Trust
DESCRIPTION:
URL:https://thesigprostudio.com/event/primary-trust-13/
CATEGORIES:Primary Trust
END:VEVENT
BEGIN:VEVENT
DTSTART;TZID=America/Halifax:20270430T190000
DTEND;TZID=America/Halifax:20270430T190000
DTSTAMP:20260423T203249
CREATED:20260413T194229Z
LAST-MODIFIED:20260413T194229Z
UID:10000276-1809111600-1809111600@thesigprostudio.com
SUMMARY:Primary Trust
DESCRIPTION:
URL:https://thesigprostudio.com/event/primary-trust-14/
CATEGORIES:Primary Trust
END:VEVENT
BEGIN:VEVENT
DTSTART;TZID=America/Halifax:20270501T130000
DTEND;TZID=America/Halifax:20270501T130000
DTSTAMP:20260423T203249
CREATED:20260413T200856Z
LAST-MODIFIED:20260413T200856Z
UID:10000288-1809176400-1809176400@thesigprostudio.com
SUMMARY:Primary Trust
DESCRIPTION:
URL:https://thesigprostudio.com/event/primary-trust-26/
CATEGORIES:Primary Trust
END:VEVENT
BEGIN:VEVENT
DTSTART;TZID=America/Halifax:20270501T190000
DTEND;TZID=America/Halifax:20270501T190000
DTSTAMP:20260423T203249
CREATED:20260413T194358Z
LAST-MODIFIED:20260413T194358Z
UID:10000277-1809198000-1809198000@thesigprostudio.com
SUMMARY:Primary Trust
DESCRIPTION:
URL:https://thesigprostudio.com/event/primary-trust-15/
CATEGORIES:Primary Trust
END:VEVENT
BEGIN:VEVENT
DTSTART;TZID=America/Halifax:20270505T190000
DTEND;TZID=America/Halifax:20270505T190000
DTSTAMP:20260423T203249
CREATED:20260413T194547Z
LAST-MODIFIED:20260420T192242Z
UID:10000278-1809543600-1809543600@thesigprostudio.com
SUMMARY:Primary TrustASL Performance
DESCRIPTION:
URL:https://thesigprostudio.com/event/primary-trust-16/
CATEGORIES:Primary Trust
END:VEVENT
BEGIN:VEVENT
DTSTART;TZID=America/Halifax:20270506T130000
DTEND;TZID=America/Halifax:20270506T130000
DTSTAMP:20260423T203249
CREATED:20260413T201007Z
LAST-MODIFIED:20260420T192257Z
UID:10000289-1809608400-1809608400@thesigprostudio.com
SUMMARY:Primary TrustTalkback
DESCRIPTION:
URL:https://thesigprostudio.com/event/primary-trust-27/
CATEGORIES:Primary Trust
END:VEVENT
BEGIN:VEVENT
DTSTART;TZID=America/Halifax:20270506T190000
DTEND;TZID=America/Halifax:20270506T190000
DTSTAMP:20260423T203249
CREATED:20260413T194712Z
LAST-MODIFIED:20260413T194809Z
UID:10000279-1809630000-1809630000@thesigprostudio.com
SUMMARY:Primary Trust
DESCRIPTION:
URL:https://thesigprostudio.com/event/primary-trust-17/
CATEGORIES:Primary Trust
END:VEVENT
BEGIN:VEVENT
DTSTART;TZID=America/Halifax:20270507T190000
DTEND;TZID=America/Halifax:20270507T190000
DTSTAMP:20260423T203249
CREATED:20260413T194927Z
LAST-MODIFIED:20260413T194927Z
UID:10000280-1809716400-1809716400@thesigprostudio.com
SUMMARY:Primary Trust
DESCRIPTION:
URL:https://thesigprostudio.com/event/primary-trust-18/
CATEGORIES:Primary Trust
END:VEVENT
BEGIN:VEVENT
DTSTART;TZID=America/Halifax:20270508T130000
DTEND;TZID=America/Halifax:20270508T130000
DTSTAMP:20260423T203249
CREATED:20260413T201233Z
LAST-MODIFIED:20260413T201359Z
UID:10000290-1809781200-1809781200@thesigprostudio.com
SUMMARY:Primary Trust
DESCRIPTION:
URL:https://thesigprostudio.com/event/primary-trust-28/
CATEGORIES:Primary Trust
END:VEVENT
BEGIN:VEVENT
DTSTART;TZID=America/Halifax:20270508T190000
DTEND;TZID=America/Halifax:20270508T190000
DTSTAMP:20260423T203249
CREATED:20260413T195048Z
LAST-MODIFIED:20260413T195048Z
UID:10000281-1809802800-1809802800@thesigprostudio.com
SUMMARY:Primary Trust
DESCRIPTION:
URL:https://thesigprostudio.com/event/primary-trust-19/
CATEGORIES:Primary Trust
END:VEVENT
BEGIN:VEVENT
DTSTART;TZID=America/Halifax:20270511T190000
DTEND;TZID=America/Halifax:20270511T190000
DTSTAMP:20260423T203249
CREATED:20260413T195221Z
LAST-MODIFIED:20260413T195221Z
UID:10000282-1810062000-1810062000@thesigprostudio.com
SUMMARY:Primary Trust
DESCRIPTION:
URL:https://thesigprostudio.com/event/primary-trust-20/
CATEGORIES:Primary Trust
END:VEVENT
BEGIN:VEVENT
DTSTART;TZID=America/Halifax:20270512T190000
DTEND;TZID=America/Halifax:20270512T190000
DTSTAMP:20260423T203249
CREATED:20260413T195759Z
LAST-MODIFIED:20260413T195759Z
UID:10000283-1810148400-1810148400@thesigprostudio.com
SUMMARY:Primary Trust
DESCRIPTION:
URL:https://thesigprostudio.com/event/primary-trust-21/
CATEGORIES:Primary Trust
END:VEVENT
BEGIN:VEVENT
DTSTART;TZID=America/Halifax:20270513T190000
DTEND;TZID=America/Halifax:20270513T190000
DTSTAMP:20260423T203249
CREATED:20260413T195934Z
LAST-MODIFIED:20260413T195934Z
UID:10000284-1810234800-1810234800@thesigprostudio.com
SUMMARY:Primary Trust
DESCRIPTION:
URL:https://thesigprostudio.com/event/primary-trust-22/
CATEGORIES:Primary Trust
END:VEVENT
BEGIN:VEVENT
DTSTART;TZID=America/Halifax:20270514T190000
DTEND;TZID=America/Halifax:20270514T190000
DTSTAMP:20260423T203249
CREATED:20260413T200237Z
LAST-MODIFIED:20260413T200237Z
UID:10000285-1810321200-1810321200@thesigprostudio.com
SUMMARY:Primary Trust
DESCRIPTION:
URL:https://thesigprostudio.com/event/primary-trust-23/
CATEGORIES:Primary Trust
END:VEVENT
BEGIN:VEVENT
DTSTART;TZID=America/Halifax:20270515T130000
DTEND;TZID=America/Halifax:20270515T130000
DTSTAMP:20260423T203249
CREATED:20260413T201456Z
LAST-MODIFIED:20260413T201456Z
UID:10000291-1810386000-1810386000@thesigprostudio.com
SUMMARY:Primary Trust
DESCRIPTION:
URL:https://thesigprostudio.com/event/primary-trust-29/
CATEGORIES:Primary Trust
END:VEVENT
BEGIN:VEVENT
DTSTART;TZID=America/Halifax:20270515T190000
DTEND;TZID=America/Halifax:20270515T190000
DTSTAMP:20260423T203249
CREATED:20260413T200355Z
LAST-MODIFIED:20260420T192324Z
UID:10000286-1810407600-1810407600@thesigprostudio.com
SUMMARY:Primary TrustClosing
DESCRIPTION:
URL:https://thesigprostudio.com/event/primary-trust-24/
CATEGORIES:Primary Trust
END:VEVENT
BEGIN:VEVENT
DTSTART;TZID=America/Halifax:20270629T190000
DTEND;TZID=America/Halifax:20270629T213000
DTSTAMP:20260423T203249
CREATED:20260415T200030Z
LAST-MODIFIED:20260420T192618Z
UID:10000141-1814295600-1814304600@thesigprostudio.com
SUMMARY:XanaduPreview
DESCRIPTION:
URL:https://thesigprostudio.com/event/xanadu/
CATEGORIES:Xanadu
END:VEVENT
BEGIN:VEVENT
DTSTART;TZID=America/Halifax:20270630T190000
DTEND;TZID=America/Halifax:20270630T190000
DTSTAMP:20260423T203249
CREATED:20260415T192542Z
LAST-MODIFIED:20260420T192626Z
UID:10000319-1814382000-1814382000@thesigprostudio.com
SUMMARY:XanaduPreview
DESCRIPTION:
URL:https://thesigprostudio.com/event/xanadu-2/
CATEGORIES:Xanadu
END:VEVENT
BEGIN:VEVENT
DTSTART;TZID=America/Halifax:20270701T190000
DTEND;TZID=America/Halifax:20270701T190000
DTSTAMP:20260423T203249
CREATED:20260415T192735Z
LAST-MODIFIED:20260420T192628Z
UID:10000320-1814468400-1814468400@thesigprostudio.com
SUMMARY:XanaduPreview
DESCRIPTION:
URL:https://thesigprostudio.com/event/xanadu-3/
CATEGORIES:Xanadu
END:VEVENT
BEGIN:VEVENT
DTSTART;TZID=America/Halifax:20270702T190000
DTEND;TZID=America/Halifax:20270702T190000
DTSTAMP:20260423T203249
CREATED:20260415T192901Z
LAST-MODIFIED:20260420T192636Z
UID:10000321-1814554800-1814554800@thesigprostudio.com
SUMMARY:XanaduOpening
DESCRIPTION:
URL:https://thesigprostudio.com/event/xanadu-4/
CATEGORIES:Xanadu
END:VEVENT
BEGIN:VEVENT
DTSTART;TZID=America/Halifax:20270703T190000
DTEND;TZID=America/Halifax:20270703T190000
DTSTAMP:20260423T203249
CREATED:20260417T182828Z
LAST-MODIFIED:20260417T182828Z
UID:10000322-1814641200-1814641200@thesigprostudio.com
SUMMARY:Xanadu
DESCRIPTION:
URL:https://thesigprostudio.com/event/xanadu-5/
CATEGORIES:Xanadu
END:VEVENT
END:VCALENDAR