BEGIN:VCALENDAR
VERSION:2.0
PRODID:-//The SigPro Studio - ECPv6.15.20//NONSGML v1.0//EN
CALSCALE:GREGORIAN
METHOD:PUBLISH
X-ORIGINAL-URL:https://thesigprostudio.com
X-WR-CALDESC:Events for The SigPro Studio
REFRESH-INTERVAL;VALUE=DURATION:PT1H
X-Robots-Tag:noindex
X-PUBLISHED-TTL:PT1H
BEGIN:VTIMEZONE
TZID:America/Halifax
BEGIN:DAYLIGHT
TZOFFSETFROM:-0400
TZOFFSETTO:-0300
TZNAME:ADT
DTSTART:20250309T060000
END:DAYLIGHT
BEGIN:STANDARD
TZOFFSETFROM:-0300
TZOFFSETTO:-0400
TZNAME:AST
DTSTART:20251102T050000
END:STANDARD
BEGIN:DAYLIGHT
TZOFFSETFROM:-0400
TZOFFSETTO:-0300
TZNAME:ADT
DTSTART:20260308T060000
END:DAYLIGHT
BEGIN:STANDARD
TZOFFSETFROM:-0300
TZOFFSETTO:-0400
TZNAME:AST
DTSTART:20261101T050000
END:STANDARD
BEGIN:DAYLIGHT
TZOFFSETFROM:-0400
TZOFFSETTO:-0300
TZNAME:ADT
DTSTART:20270314T060000
END:DAYLIGHT
BEGIN:STANDARD
TZOFFSETFROM:-0300
TZOFFSETTO:-0400
TZNAME:AST
DTSTART:20271107T050000
END:STANDARD
END:VTIMEZONE
BEGIN:VEVENT
DTSTART;TZID=America/Halifax:20260616T190000
DTEND;TZID=America/Halifax:20260616T190000
DTSTAMP:20260423T032542
CREATED:20260317T124324Z
LAST-MODIFIED:20260408T153349Z
UID:10000142-1781636400-1781636400@thesigprostudio.com
SUMMARY:Nightsweat Preview
DESCRIPTION:
URL:https://thesigprostudio.com/event/nightsweat-2/
CATEGORIES:Nightsweat
END:VEVENT
BEGIN:VEVENT
DTSTART;TZID=America/Halifax:20260616T190000
DTEND;TZID=America/Halifax:20260808T000000
DTSTAMP:20260423T032542
CREATED:20260224T085804Z
LAST-MODIFIED:20260317T193105Z
UID:10000082-1781636400-1786147200@thesigprostudio.com
SUMMARY:Nightsweat
DESCRIPTION:Purchase Tickets \nPre-Elderly Girls Gone Wild \nBritney Cox\, a washed-up actress has been canceled on social media! To hide from the haters her anxious young assistant\, Maude Bender\, has booked a girl’s murder mystery weekend at a Berkshires Airbnb. Joining the fun is Tawny Fitzsimmons\, a tired mom\, and ex-cop and security detail Dale James. Comic mania ensues when the girl’s weekend goes awry. Between pipe bombs\, appliances that don’t work\, slashed tires\, a mysterious landlady\, and news of a serial killer hunting “pre-elderly women\,” what more could go wrong? “Bridesmaids” meets “Friday the 13th” in Natalie Symons’ hilarious new farce\, Nightsweat\, as it pokes fun at wokeness\, Florida\, pronouns\, Ozempic\, white privilege\, “don’t say gay\,” horror movie tropes\, fake news\, and\, of course\, Hall & Oats. Book your stay at McCurdy’s Haunted Airbnb where murder\, mayhem\, and belly laughs are behind every door.
URL:https://thesigprostudio.com/event/nightsweat/
CATEGORIES:Summer 2026
ATTACH;FMTTYPE=image/jpeg:https://thesigprostudio.com/wp-content/uploads/2026/03/night-sweat_poster-1.jpg
END:VEVENT
BEGIN:VEVENT
DTSTART;TZID=America/Halifax:20260617T190000
DTEND;TZID=America/Halifax:20260617T190000
DTSTAMP:20260423T032542
CREATED:20260317T124440Z
LAST-MODIFIED:20260408T153353Z
UID:10000143-1781722800-1781722800@thesigprostudio.com
SUMMARY:Nightsweat Preview
DESCRIPTION:
URL:https://thesigprostudio.com/event/nightsweat-3/
CATEGORIES:Nightsweat
END:VEVENT
BEGIN:VEVENT
DTSTART;TZID=America/Halifax:20260618T190000
DTEND;TZID=America/Halifax:20260618T190000
DTSTAMP:20260423T032542
CREATED:20260317T124554Z
LAST-MODIFIED:20260408T153358Z
UID:10000144-1781809200-1781809200@thesigprostudio.com
SUMMARY:Nightsweat Preview
DESCRIPTION:
URL:https://thesigprostudio.com/event/nightsweat-4/
CATEGORIES:Nightsweat
END:VEVENT
BEGIN:VEVENT
DTSTART;TZID=America/Halifax:20260620T130000
DTEND;TZID=America/Halifax:20260620T130000
DTSTAMP:20260423T032542
CREATED:20260317T124745Z
LAST-MODIFIED:20260408T153402Z
UID:10000145-1781960400-1781960400@thesigprostudio.com
SUMMARY:Nightsweat Preview
DESCRIPTION:
URL:https://thesigprostudio.com/event/nightsweat-5/
CATEGORIES:Nightsweat
END:VEVENT
BEGIN:VEVENT
DTSTART;TZID=America/Halifax:20260620T190000
DTEND;TZID=America/Halifax:20260620T190000
DTSTAMP:20260423T032542
CREATED:20260317T124929Z
LAST-MODIFIED:20260408T153403Z
UID:10000146-1781982000-1781982000@thesigprostudio.com
SUMMARY:Nightsweat Opening
DESCRIPTION:
URL:https://thesigprostudio.com/event/nightsweat-6/
CATEGORIES:Nightsweat
END:VEVENT
BEGIN:VEVENT
DTSTART;TZID=America/Halifax:20260623T190000
DTEND;TZID=America/Halifax:20260623T213000
DTSTAMP:20260423T032542
CREATED:20260317T125045Z
LAST-MODIFIED:20260317T192919Z
UID:10000147-1782241200-1782250200@thesigprostudio.com
SUMMARY:Nightsweat
DESCRIPTION:
URL:https://thesigprostudio.com/event/nightsweat-7/
CATEGORIES:Nightsweat
END:VEVENT
BEGIN:VEVENT
DTSTART;TZID=America/Halifax:20260624T190000
DTEND;TZID=America/Halifax:20260624T213000
DTSTAMP:20260423T032542
CREATED:20260317T125224Z
LAST-MODIFIED:20260317T192914Z
UID:10000148-1782327600-1782336600@thesigprostudio.com
SUMMARY:Nightsweat
DESCRIPTION:
URL:https://thesigprostudio.com/event/nightsweat-8/
CATEGORIES:Nightsweat
END:VEVENT
BEGIN:VEVENT
DTSTART;TZID=America/Halifax:20260625T130000
DTEND;TZID=America/Halifax:20260625T130000
DTSTAMP:20260423T032542
CREATED:20260317T130712Z
LAST-MODIFIED:20260408T153410Z
UID:10000149-1782392400-1782392400@thesigprostudio.com
SUMMARY:Nightsweat Talkback
DESCRIPTION:
URL:https://thesigprostudio.com/event/nightsweat-9/
CATEGORIES:Nightsweat
END:VEVENT
BEGIN:VEVENT
DTSTART;TZID=America/Halifax:20260625T190000
DTEND;TZID=America/Halifax:20260625T213000
DTSTAMP:20260423T032542
CREATED:20260317T130750Z
LAST-MODIFIED:20260317T192907Z
UID:10000150-1782414000-1782423000@thesigprostudio.com
SUMMARY:Nightsweat
DESCRIPTION:
URL:https://thesigprostudio.com/event/nightsweat-10/
CATEGORIES:Nightsweat
END:VEVENT
BEGIN:VEVENT
DTSTART;TZID=America/Halifax:20260626T190000
DTEND;TZID=America/Halifax:20260626T213000
DTSTAMP:20260423T032542
CREATED:20260317T130837Z
LAST-MODIFIED:20260317T192904Z
UID:10000151-1782500400-1782509400@thesigprostudio.com
SUMMARY:Nightsweat
DESCRIPTION:
URL:https://thesigprostudio.com/event/nightsweat-11/
CATEGORIES:Nightsweat
END:VEVENT
BEGIN:VEVENT
DTSTART;TZID=America/Halifax:20260627T190000
DTEND;TZID=America/Halifax:20260627T213000
DTSTAMP:20260423T032542
CREATED:20260317T130938Z
LAST-MODIFIED:20260317T192858Z
UID:10000152-1782586800-1782595800@thesigprostudio.com
SUMMARY:Nightsweat
DESCRIPTION:
URL:https://thesigprostudio.com/event/nightsweat-12/
CATEGORIES:Nightsweat
END:VEVENT
BEGIN:VEVENT
DTSTART;TZID=America/Halifax:20260701T190000
DTEND;TZID=America/Halifax:20260701T213000
DTSTAMP:20260423T032542
CREATED:20260317T160053Z
LAST-MODIFIED:20260317T192854Z
UID:10000153-1782932400-1782941400@thesigprostudio.com
SUMMARY:Nightsweat
DESCRIPTION:
URL:https://thesigprostudio.com/event/nightsweat-13/
CATEGORIES:Nightsweat
END:VEVENT
BEGIN:VEVENT
DTSTART;TZID=America/Halifax:20260702T130000
DTEND;TZID=America/Halifax:20260702T143000
DTSTAMP:20260423T032542
CREATED:20260317T160148Z
LAST-MODIFIED:20260317T192850Z
UID:10000154-1782997200-1783002600@thesigprostudio.com
SUMMARY:Nightsweat
DESCRIPTION:
URL:https://thesigprostudio.com/event/nightsweat-14/
CATEGORIES:Nightsweat
END:VEVENT
BEGIN:VEVENT
DTSTART;TZID=America/Halifax:20260702T190000
DTEND;TZID=America/Halifax:20260702T213000
DTSTAMP:20260423T032542
CREATED:20260317T160240Z
LAST-MODIFIED:20260317T192846Z
UID:10000155-1783018800-1783027800@thesigprostudio.com
SUMMARY:Nightsweat
DESCRIPTION:
URL:https://thesigprostudio.com/event/nightsweat-15/
CATEGORIES:Nightsweat
END:VEVENT
BEGIN:VEVENT
DTSTART;TZID=America/Halifax:20260703T190000
DTEND;TZID=America/Halifax:20260703T213000
DTSTAMP:20260423T032542
CREATED:20260317T160319Z
LAST-MODIFIED:20260317T192842Z
UID:10000156-1783105200-1783114200@thesigprostudio.com
SUMMARY:Nightsweat
DESCRIPTION:
URL:https://thesigprostudio.com/event/nightsweat-16/
CATEGORIES:Nightsweat
END:VEVENT
BEGIN:VEVENT
DTSTART;TZID=America/Halifax:20260707T190000
DTEND;TZID=America/Halifax:20260707T213000
DTSTAMP:20260423T032542
CREATED:20260317T160413Z
LAST-MODIFIED:20260317T192817Z
UID:10000157-1783450800-1783459800@thesigprostudio.com
SUMMARY:Nightsweat
DESCRIPTION:
URL:https://thesigprostudio.com/event/nightsweat-17/
CATEGORIES:Nightsweat
END:VEVENT
BEGIN:VEVENT
DTSTART;TZID=America/Halifax:20260708T190000
DTEND;TZID=America/Halifax:20260708T213000
DTSTAMP:20260423T032542
CREATED:20260317T160507Z
LAST-MODIFIED:20260317T192742Z
UID:10000158-1783537200-1783546200@thesigprostudio.com
SUMMARY:Nightsweat
DESCRIPTION:
URL:https://thesigprostudio.com/event/nightsweat-18/
CATEGORIES:Nightsweat
END:VEVENT
BEGIN:VEVENT
DTSTART;TZID=America/Halifax:20260709T130000
DTEND;TZID=America/Halifax:20260709T130000
DTSTAMP:20260423T032542
CREATED:20260317T160604Z
LAST-MODIFIED:20260408T153415Z
UID:10000159-1783602000-1783602000@thesigprostudio.com
SUMMARY:Nightsweat Talkback
DESCRIPTION:
URL:https://thesigprostudio.com/event/nightsweat-19/
CATEGORIES:Nightsweat
END:VEVENT
BEGIN:VEVENT
DTSTART;TZID=America/Halifax:20260709T190000
DTEND;TZID=America/Halifax:20260709T190000
DTSTAMP:20260423T032542
CREATED:20260317T160813Z
LAST-MODIFIED:20260317T195913Z
UID:10000160-1783623600-1783623600@thesigprostudio.com
SUMMARY:Nightsweat
DESCRIPTION:
URL:https://thesigprostudio.com/event/nightsweat-20/
CATEGORIES:Nightsweat
END:VEVENT
BEGIN:VEVENT
DTSTART;TZID=America/Halifax:20260710T190000
DTEND;TZID=America/Halifax:20260710T190000
DTSTAMP:20260423T032542
CREATED:20260317T160848Z
LAST-MODIFIED:20260317T200016Z
UID:10000161-1783710000-1783710000@thesigprostudio.com
SUMMARY:Nightsweat
DESCRIPTION:
URL:https://thesigprostudio.com/event/nightsweat-21/
CATEGORIES:Nightsweat
END:VEVENT
BEGIN:VEVENT
DTSTART;TZID=America/Halifax:20260711T190000
DTEND;TZID=America/Halifax:20260711T213000
DTSTAMP:20260423T032542
CREATED:20260317T160943Z
LAST-MODIFIED:20260317T192717Z
UID:10000162-1783796400-1783805400@thesigprostudio.com
SUMMARY:Nightsweat
DESCRIPTION:
URL:https://thesigprostudio.com/event/nightsweat-22/
CATEGORIES:Nightsweat
END:VEVENT
BEGIN:VEVENT
DTSTART;TZID=America/Halifax:20260715T190000
DTEND;TZID=America/Halifax:20260715T213000
DTSTAMP:20260423T032542
CREATED:20260317T161042Z
LAST-MODIFIED:20260317T192713Z
UID:10000163-1784142000-1784151000@thesigprostudio.com
SUMMARY:Nightsweat
DESCRIPTION:
URL:https://thesigprostudio.com/event/nightsweat-23/
CATEGORIES:Nightsweat
END:VEVENT
BEGIN:VEVENT
DTSTART;TZID=America/Halifax:20260716T130000
DTEND;TZID=America/Halifax:20260716T143000
DTSTAMP:20260423T032542
CREATED:20260317T161142Z
LAST-MODIFIED:20260317T192709Z
UID:10000164-1784206800-1784212200@thesigprostudio.com
SUMMARY:Nightsweat
DESCRIPTION:
URL:https://thesigprostudio.com/event/nightsweat-24/
CATEGORIES:Nightsweat
END:VEVENT
BEGIN:VEVENT
DTSTART;TZID=America/Halifax:20260716T190000
DTEND;TZID=America/Halifax:20260716T213000
DTSTAMP:20260423T032542
CREATED:20260317T161242Z
LAST-MODIFIED:20260317T192703Z
UID:10000165-1784228400-1784237400@thesigprostudio.com
SUMMARY:Nightsweat
DESCRIPTION:
URL:https://thesigprostudio.com/event/nightsweat-25/
CATEGORIES:Nightsweat
END:VEVENT
BEGIN:VEVENT
DTSTART;TZID=America/Halifax:20260717T190000
DTEND;TZID=America/Halifax:20260717T213000
DTSTAMP:20260423T032542
CREATED:20260317T161328Z
LAST-MODIFIED:20260317T192658Z
UID:10000166-1784314800-1784323800@thesigprostudio.com
SUMMARY:Nightsweat
DESCRIPTION:
URL:https://thesigprostudio.com/event/nightsweat-26/
CATEGORIES:Nightsweat
END:VEVENT
BEGIN:VEVENT
DTSTART;TZID=America/Halifax:20260718T130000
DTEND;TZID=America/Halifax:20260718T143000
DTSTAMP:20260423T032542
CREATED:20260317T175149Z
LAST-MODIFIED:20260317T192343Z
UID:10000183-1784379600-1784385000@thesigprostudio.com
SUMMARY:Nightsweat
DESCRIPTION:
URL:https://thesigprostudio.com/event/nightsweat-43/
CATEGORIES:Nightsweat
END:VEVENT
BEGIN:VEVENT
DTSTART;TZID=America/Halifax:20260718T190000
DTEND;TZID=America/Halifax:20260718T213000
DTSTAMP:20260423T032542
CREATED:20260317T161413Z
LAST-MODIFIED:20260317T192536Z
UID:10000167-1784401200-1784410200@thesigprostudio.com
SUMMARY:Nightsweat
DESCRIPTION:
URL:https://thesigprostudio.com/event/nightsweat-27/
CATEGORIES:Nightsweat
END:VEVENT
BEGIN:VEVENT
DTSTART;TZID=America/Halifax:20260721T190000
DTEND;TZID=America/Halifax:20260721T190000
DTSTAMP:20260423T032542
CREATED:20260317T161511Z
LAST-MODIFIED:20260408T153309Z
UID:10000168-1784660400-1784660400@thesigprostudio.com
SUMMARY:Nightsweat ASL Performance
DESCRIPTION:
URL:https://thesigprostudio.com/event/nightsweat-28/
CATEGORIES:Nightsweat
END:VEVENT
BEGIN:VEVENT
DTSTART;TZID=America/Halifax:20260722T190000
DTEND;TZID=America/Halifax:20260722T213000
DTSTAMP:20260423T032542
CREATED:20260317T161558Z
LAST-MODIFIED:20260317T192528Z
UID:10000169-1784746800-1784755800@thesigprostudio.com
SUMMARY:Nightsweat
DESCRIPTION:
URL:https://thesigprostudio.com/event/nightsweat-29/
CATEGORIES:Nightsweat
END:VEVENT
END:VCALENDAR