BEGIN:VCALENDAR
VERSION:2.0
PRODID:-//The SigPro Studio - ECPv6.15.20//NONSGML v1.0//EN
CALSCALE:GREGORIAN
METHOD:PUBLISH
X-ORIGINAL-URL:https://thesigprostudio.com
X-WR-CALDESC:Events for The SigPro Studio
REFRESH-INTERVAL;VALUE=DURATION:PT1H
X-Robots-Tag:noindex
X-PUBLISHED-TTL:PT1H
BEGIN:VTIMEZONE
TZID:America/Halifax
BEGIN:DAYLIGHT
TZOFFSETFROM:-0400
TZOFFSETTO:-0300
TZNAME:ADT
DTSTART:20260308T060000
END:DAYLIGHT
BEGIN:STANDARD
TZOFFSETFROM:-0300
TZOFFSETTO:-0400
TZNAME:AST
DTSTART:20261101T050000
END:STANDARD
BEGIN:DAYLIGHT
TZOFFSETFROM:-0400
TZOFFSETTO:-0300
TZNAME:ADT
DTSTART:20270314T060000
END:DAYLIGHT
BEGIN:STANDARD
TZOFFSETFROM:-0300
TZOFFSETTO:-0400
TZNAME:AST
DTSTART:20271107T050000
END:STANDARD
BEGIN:DAYLIGHT
TZOFFSETFROM:-0400
TZOFFSETTO:-0300
TZNAME:ADT
DTSTART:20280312T060000
END:DAYLIGHT
BEGIN:STANDARD
TZOFFSETFROM:-0300
TZOFFSETTO:-0400
TZNAME:AST
DTSTART:20281105T050000
END:STANDARD
END:VTIMEZONE
BEGIN:VEVENT
DTSTART;TZID=America/Halifax:20270217T190000
DTEND;TZID=America/Halifax:20270217T190000
DTSTAMP:20260423T183105
CREATED:20260415T183404Z
LAST-MODIFIED:20260415T183404Z
UID:10000296-1802890800-1802890800@thesigprostudio.com
SUMMARY:Come From Away
DESCRIPTION:
URL:https://thesigprostudio.com/event/come-from-away-20/
CATEGORIES:Come From Away
END:VEVENT
BEGIN:VEVENT
DTSTART;TZID=America/Halifax:20270218T190000
DTEND;TZID=America/Halifax:20270218T190000
DTSTAMP:20260423T183105
CREATED:20260415T183946Z
LAST-MODIFIED:20260415T183946Z
UID:10000298-1802977200-1802977200@thesigprostudio.com
SUMMARY:Come From Away
DESCRIPTION:
URL:https://thesigprostudio.com/event/come-from-away-21/
CATEGORIES:Come From Away
END:VEVENT
BEGIN:VEVENT
DTSTART;TZID=America/Halifax:20270219T190000
DTEND;TZID=America/Halifax:20270219T190000
DTSTAMP:20260423T183105
CREATED:20260415T184123Z
LAST-MODIFIED:20260415T184123Z
UID:10000299-1803063600-1803063600@thesigprostudio.com
SUMMARY:Come From Away
DESCRIPTION:
URL:https://thesigprostudio.com/event/come-from-away-22/
CATEGORIES:Come From Away
END:VEVENT
BEGIN:VEVENT
DTSTART;TZID=America/Halifax:20270220T130000
DTEND;TZID=America/Halifax:20270220T130000
DTSTAMP:20260423T183105
CREATED:20260407T192442Z
LAST-MODIFIED:20260407T192442Z
UID:10000256-1803128400-1803128400@thesigprostudio.com
SUMMARY:Come From Away
DESCRIPTION:
URL:https://thesigprostudio.com/event/come-from-away-9/
CATEGORIES:Come From Away
END:VEVENT
BEGIN:VEVENT
DTSTART;TZID=America/Halifax:20270220T190000
DTEND;TZID=America/Halifax:20270220T190000
DTSTAMP:20260423T183105
CREATED:20260415T184257Z
LAST-MODIFIED:20260415T184257Z
UID:10000300-1803150000-1803150000@thesigprostudio.com
SUMMARY:Come From Away
DESCRIPTION:
URL:https://thesigprostudio.com/event/come-from-away-23/
CATEGORIES:Come From Away
END:VEVENT
BEGIN:VEVENT
DTSTART;TZID=America/Halifax:20270224T190000
DTEND;TZID=America/Halifax:20270224T190000
DTSTAMP:20260423T183105
CREATED:20260415T184431Z
LAST-MODIFIED:20260415T184431Z
UID:10000301-1803495600-1803495600@thesigprostudio.com
SUMMARY:Come From Away
DESCRIPTION:
URL:https://thesigprostudio.com/event/come-from-away-24/
CATEGORIES:Come From Away
END:VEVENT
BEGIN:VEVENT
DTSTART;TZID=America/Halifax:20270225T130000
DTEND;TZID=America/Halifax:20270225T130000
DTSTAMP:20260423T183105
CREATED:20260407T192600Z
LAST-MODIFIED:20260420T190128Z
UID:10000257-1803560400-1803560400@thesigprostudio.com
SUMMARY:Come From AwayTalkback
DESCRIPTION:
URL:https://thesigprostudio.com/event/come-from-away-10/
CATEGORIES:Come From Away
END:VEVENT
BEGIN:VEVENT
DTSTART;TZID=America/Halifax:20270225T190000
DTEND;TZID=America/Halifax:20270225T190000
DTSTAMP:20260423T183105
CREATED:20260415T184610Z
LAST-MODIFIED:20260420T190050Z
UID:10000302-1803582000-1803582000@thesigprostudio.com
SUMMARY:Come From Away
DESCRIPTION:
URL:https://thesigprostudio.com/event/come-from-away-25/
CATEGORIES:Come From Away
END:VEVENT
BEGIN:VEVENT
DTSTART;TZID=America/Halifax:20270226T190000
DTEND;TZID=America/Halifax:20270226T190000
DTSTAMP:20260423T183105
CREATED:20260415T184828Z
LAST-MODIFIED:20260415T184828Z
UID:10000303-1803668400-1803668400@thesigprostudio.com
SUMMARY:Come From Away
DESCRIPTION:
URL:https://thesigprostudio.com/event/come-from-away-26/
CATEGORIES:Come From Away
END:VEVENT
BEGIN:VEVENT
DTSTART;TZID=America/Halifax:20270227T130000
DTEND;TZID=America/Halifax:20270227T130000
DTSTAMP:20260423T183105
CREATED:20260407T192707Z
LAST-MODIFIED:20260407T192707Z
UID:10000258-1803733200-1803733200@thesigprostudio.com
SUMMARY:Come From Away
DESCRIPTION:
URL:https://thesigprostudio.com/event/come-from-away-11/
CATEGORIES:Come From Away
END:VEVENT
BEGIN:VEVENT
DTSTART;TZID=America/Halifax:20270227T190000
DTEND;TZID=America/Halifax:20270227T190000
DTSTAMP:20260423T183105
CREATED:20260415T184958Z
LAST-MODIFIED:20260415T184958Z
UID:10000304-1803754800-1803754800@thesigprostudio.com
SUMMARY:Come From Away
DESCRIPTION:
URL:https://thesigprostudio.com/event/come-from-away-27/
CATEGORIES:Come From Away
END:VEVENT
BEGIN:VEVENT
DTSTART;TZID=America/Halifax:20270302T190000
DTEND;TZID=America/Halifax:20270302T190000
DTSTAMP:20260423T183105
CREATED:20260415T185137Z
LAST-MODIFIED:20260415T185137Z
UID:10000305-1804014000-1804014000@thesigprostudio.com
SUMMARY:Come From Away
DESCRIPTION:
URL:https://thesigprostudio.com/event/come-from-away-28/
CATEGORIES:Come From Away
END:VEVENT
BEGIN:VEVENT
DTSTART;TZID=America/Halifax:20270303T190000
DTEND;TZID=America/Halifax:20270303T190000
DTSTAMP:20260423T183105
CREATED:20260415T185316Z
LAST-MODIFIED:20260415T185316Z
UID:10000306-1804100400-1804100400@thesigprostudio.com
SUMMARY:Come From Away
DESCRIPTION:
URL:https://thesigprostudio.com/event/come-from-away-29/
CATEGORIES:Come From Away
END:VEVENT
BEGIN:VEVENT
DTSTART;TZID=America/Halifax:20270304T190000
DTEND;TZID=America/Halifax:20270304T190000
DTSTAMP:20260423T183105
CREATED:20260415T185455Z
LAST-MODIFIED:20260415T185455Z
UID:10000307-1804186800-1804186800@thesigprostudio.com
SUMMARY:Come From Away
DESCRIPTION:
URL:https://thesigprostudio.com/event/come-from-away-30/
CATEGORIES:Come From Away
END:VEVENT
BEGIN:VEVENT
DTSTART;TZID=America/Halifax:20270305T190000
DTEND;TZID=America/Halifax:20270305T190000
DTSTAMP:20260423T183105
CREATED:20260415T185635Z
LAST-MODIFIED:20260415T185635Z
UID:10000308-1804273200-1804273200@thesigprostudio.com
SUMMARY:Come From Away
DESCRIPTION:
URL:https://thesigprostudio.com/event/come-from-away-31/
CATEGORIES:Come From Away
END:VEVENT
BEGIN:VEVENT
DTSTART;TZID=America/Halifax:20270306T130000
DTEND;TZID=America/Halifax:20270306T130000
DTSTAMP:20260423T183105
CREATED:20260407T194505Z
LAST-MODIFIED:20260407T194505Z
UID:10000259-1804338000-1804338000@thesigprostudio.com
SUMMARY:Come From Away
DESCRIPTION:
URL:https://thesigprostudio.com/event/come-from-away-12/
CATEGORIES:Come From Away
END:VEVENT
BEGIN:VEVENT
DTSTART;TZID=America/Halifax:20270306T190000
DTEND;TZID=America/Halifax:20270306T190000
DTSTAMP:20260423T183105
CREATED:20260415T185826Z
LAST-MODIFIED:20260415T185826Z
UID:10000309-1804359600-1804359600@thesigprostudio.com
SUMMARY:Come From Away
DESCRIPTION:
URL:https://thesigprostudio.com/event/come-from-away-32/
CATEGORIES:Come From Away
END:VEVENT
BEGIN:VEVENT
DTSTART;TZID=America/Halifax:20270310T190000
DTEND;TZID=America/Halifax:20270310T190000
DTSTAMP:20260423T183105
CREATED:20260415T185954Z
LAST-MODIFIED:20260420T185818Z
UID:10000310-1804705200-1804705200@thesigprostudio.com
SUMMARY:Come From AwayASL Performance
DESCRIPTION:
URL:https://thesigprostudio.com/event/come-from-away-33/
CATEGORIES:Come From Away
END:VEVENT
BEGIN:VEVENT
DTSTART;TZID=America/Halifax:20270311T130000
DTEND;TZID=America/Halifax:20270311T130000
DTSTAMP:20260423T183105
CREATED:20260407T194617Z
LAST-MODIFIED:20260420T190042Z
UID:10000260-1804770000-1804770000@thesigprostudio.com
SUMMARY:Come From AwayTalkback
DESCRIPTION:
URL:https://thesigprostudio.com/event/come-from-away-13/
CATEGORIES:Come From Away
END:VEVENT
BEGIN:VEVENT
DTSTART;TZID=America/Halifax:20270311T190000
DTEND;TZID=America/Halifax:20270311T190000
DTSTAMP:20260423T183105
CREATED:20260415T190127Z
LAST-MODIFIED:20260420T190031Z
UID:10000311-1804791600-1804791600@thesigprostudio.com
SUMMARY:Come From Away
DESCRIPTION:
URL:https://thesigprostudio.com/event/come-from-away-34/
CATEGORIES:Come From Away
END:VEVENT
BEGIN:VEVENT
DTSTART;TZID=America/Halifax:20270312T190000
DTEND;TZID=America/Halifax:20270312T190000
DTSTAMP:20260423T183105
CREATED:20260415T190251Z
LAST-MODIFIED:20260415T190251Z
UID:10000312-1804878000-1804878000@thesigprostudio.com
SUMMARY:Come From Away
DESCRIPTION:
URL:https://thesigprostudio.com/event/come-from-away-35/
CATEGORIES:Come From Away
END:VEVENT
BEGIN:VEVENT
DTSTART;TZID=America/Halifax:20270313T130000
DTEND;TZID=America/Halifax:20270313T130000
DTSTAMP:20260423T183105
CREATED:20260407T194729Z
LAST-MODIFIED:20260407T194729Z
UID:10000261-1804942800-1804942800@thesigprostudio.com
SUMMARY:Come From Away
DESCRIPTION:
URL:https://thesigprostudio.com/event/come-from-away-14/
CATEGORIES:Come From Away
END:VEVENT
BEGIN:VEVENT
DTSTART;TZID=America/Halifax:20270313T190000
DTEND;TZID=America/Halifax:20270313T190000
DTSTAMP:20260423T183105
CREATED:20260415T190414Z
LAST-MODIFIED:20260415T190414Z
UID:10000313-1804964400-1804964400@thesigprostudio.com
SUMMARY:Come From Away
DESCRIPTION:
URL:https://thesigprostudio.com/event/come-from-away-36/
CATEGORIES:Come From Away
END:VEVENT
BEGIN:VEVENT
DTSTART;TZID=America/Halifax:20270316T190000
DTEND;TZID=America/Halifax:20270316T190000
DTSTAMP:20260423T183105
CREATED:20260415T190634Z
LAST-MODIFIED:20260415T190634Z
UID:10000314-1805223600-1805223600@thesigprostudio.com
SUMMARY:Come From Away
DESCRIPTION:
URL:https://thesigprostudio.com/event/come-from-away-37/
CATEGORIES:Come From Away
END:VEVENT
BEGIN:VEVENT
DTSTART;TZID=America/Halifax:20270317T190000
DTEND;TZID=America/Halifax:20270317T190000
DTSTAMP:20260423T183105
CREATED:20260415T190756Z
LAST-MODIFIED:20260415T190756Z
UID:10000315-1805310000-1805310000@thesigprostudio.com
SUMMARY:Come From Away
DESCRIPTION:
URL:https://thesigprostudio.com/event/come-from-away-38/
CATEGORIES:Come From Away
END:VEVENT
BEGIN:VEVENT
DTSTART;TZID=America/Halifax:20270318T190000
DTEND;TZID=America/Halifax:20270318T190000
DTSTAMP:20260423T183105
CREATED:20260415T190936Z
LAST-MODIFIED:20260415T190936Z
UID:10000316-1805396400-1805396400@thesigprostudio.com
SUMMARY:Come From Away
DESCRIPTION:
URL:https://thesigprostudio.com/event/come-from-away-39/
CATEGORIES:Come From Away
END:VEVENT
BEGIN:VEVENT
DTSTART;TZID=America/Halifax:20270319T190000
DTEND;TZID=America/Halifax:20270319T190000
DTSTAMP:20260423T183105
CREATED:20260415T191243Z
LAST-MODIFIED:20260415T191431Z
UID:10000317-1805482800-1805482800@thesigprostudio.com
SUMMARY:Come From Away
DESCRIPTION:
URL:https://thesigprostudio.com/event/come-from-away-40/
CATEGORIES:Come From Away
END:VEVENT
BEGIN:VEVENT
DTSTART;TZID=America/Halifax:20270320T130000
DTEND;TZID=America/Halifax:20270320T130000
DTSTAMP:20260423T183105
CREATED:20260407T194846Z
LAST-MODIFIED:20260407T194846Z
UID:10000262-1805547600-1805547600@thesigprostudio.com
SUMMARY:Come From Away
DESCRIPTION:
URL:https://thesigprostudio.com/event/come-from-away-15/
CATEGORIES:Come From Away
END:VEVENT
BEGIN:VEVENT
DTSTART;TZID=America/Halifax:20270320T190000
DTEND;TZID=America/Halifax:20270320T190000
DTSTAMP:20260423T183105
CREATED:20260415T191607Z
LAST-MODIFIED:20260420T185735Z
UID:10000318-1805569200-1805569200@thesigprostudio.com
SUMMARY:Come From Away Closing
DESCRIPTION:
URL:https://thesigprostudio.com/event/come-from-away-41/
CATEGORIES:Come From Away
END:VEVENT
BEGIN:VEVENT
DTSTART;TZID=America/Halifax:20270413T190000
DTEND;TZID=America/Halifax:20270413T190000
DTSTAMP:20260423T183105
CREATED:20260413T140035Z
LAST-MODIFIED:20260420T192155Z
UID:10000140-1807642800-1807642800@thesigprostudio.com
SUMMARY:Primary TrustPreview
DESCRIPTION:
URL:https://thesigprostudio.com/event/primary-trust/
CATEGORIES:Primary Trust
END:VEVENT
END:VCALENDAR