BEGIN:VCALENDAR
VERSION:2.0
PRODID:-//The SigPro Studio - ECPv6.15.20//NONSGML v1.0//EN
CALSCALE:GREGORIAN
METHOD:PUBLISH
X-ORIGINAL-URL:https://thesigprostudio.com
X-WR-CALDESC:Events for The SigPro Studio
REFRESH-INTERVAL;VALUE=DURATION:PT1H
X-Robots-Tag:noindex
X-PUBLISHED-TTL:PT1H
BEGIN:VTIMEZONE
TZID:America/Halifax
BEGIN:DAYLIGHT
TZOFFSETFROM:-0400
TZOFFSETTO:-0300
TZNAME:ADT
DTSTART:20250309T060000
END:DAYLIGHT
BEGIN:STANDARD
TZOFFSETFROM:-0300
TZOFFSETTO:-0400
TZNAME:AST
DTSTART:20251102T050000
END:STANDARD
BEGIN:DAYLIGHT
TZOFFSETFROM:-0400
TZOFFSETTO:-0300
TZNAME:ADT
DTSTART:20260308T060000
END:DAYLIGHT
BEGIN:STANDARD
TZOFFSETFROM:-0300
TZOFFSETTO:-0400
TZNAME:AST
DTSTART:20261101T050000
END:STANDARD
BEGIN:DAYLIGHT
TZOFFSETFROM:-0400
TZOFFSETTO:-0300
TZNAME:ADT
DTSTART:20270314T060000
END:DAYLIGHT
BEGIN:STANDARD
TZOFFSETFROM:-0300
TZOFFSETTO:-0400
TZNAME:AST
DTSTART:20271107T050000
END:STANDARD
END:VTIMEZONE
BEGIN:VEVENT
DTSTART;TZID=America/Halifax:20260616T190000
DTEND;TZID=America/Halifax:20260808T000000
DTSTAMP:20260423T054213
CREATED:20260224T085804Z
LAST-MODIFIED:20260317T193105Z
UID:10000082-1781636400-1786147200@thesigprostudio.com
SUMMARY:Nightsweat
DESCRIPTION:Purchase Tickets \nPre-Elderly Girls Gone Wild \nBritney Cox\, a washed-up actress has been canceled on social media! To hide from the haters her anxious young assistant\, Maude Bender\, has booked a girl’s murder mystery weekend at a Berkshires Airbnb. Joining the fun is Tawny Fitzsimmons\, a tired mom\, and ex-cop and security detail Dale James. Comic mania ensues when the girl’s weekend goes awry. Between pipe bombs\, appliances that don’t work\, slashed tires\, a mysterious landlady\, and news of a serial killer hunting “pre-elderly women\,” what more could go wrong? “Bridesmaids” meets “Friday the 13th” in Natalie Symons’ hilarious new farce\, Nightsweat\, as it pokes fun at wokeness\, Florida\, pronouns\, Ozempic\, white privilege\, “don’t say gay\,” horror movie tropes\, fake news\, and\, of course\, Hall & Oats. Book your stay at McCurdy’s Haunted Airbnb where murder\, mayhem\, and belly laughs are behind every door.
URL:https://thesigprostudio.com/event/nightsweat/
CATEGORIES:Summer 2026
ATTACH;FMTTYPE=image/jpeg:https://thesigprostudio.com/wp-content/uploads/2026/03/night-sweat_poster-1.jpg
END:VEVENT
BEGIN:VEVENT
DTSTART;TZID=America/Halifax:20260729T190000
DTEND;TZID=America/Halifax:20260729T213000
DTSTAMP:20260423T054213
CREATED:20260317T162517Z
LAST-MODIFIED:20260317T192511Z
UID:10000173-1785351600-1785360600@thesigprostudio.com
SUMMARY:Nightsweat
DESCRIPTION:
URL:https://thesigprostudio.com/event/nightsweat-33/
CATEGORIES:Nightsweat
END:VEVENT
BEGIN:VEVENT
DTSTART;TZID=America/Halifax:20260730T130000
DTEND;TZID=America/Halifax:20260730T143000
DTSTAMP:20260423T054213
CREATED:20260317T175047Z
LAST-MODIFIED:20260317T192348Z
UID:10000182-1785416400-1785421800@thesigprostudio.com
SUMMARY:Nightsweat
DESCRIPTION:
URL:https://thesigprostudio.com/event/nightsweat-42/
CATEGORIES:Nightsweat
END:VEVENT
BEGIN:VEVENT
DTSTART;TZID=America/Halifax:20260730T190000
DTEND;TZID=America/Halifax:20260730T213000
DTSTAMP:20260423T054213
CREATED:20260317T162602Z
LAST-MODIFIED:20260317T192507Z
UID:10000174-1785438000-1785447000@thesigprostudio.com
SUMMARY:Nightsweat
DESCRIPTION:
URL:https://thesigprostudio.com/event/nightsweat-34/
CATEGORIES:Nightsweat
END:VEVENT
BEGIN:VEVENT
DTSTART;TZID=America/Halifax:20260731T190000
DTEND;TZID=America/Halifax:20260731T213000
DTSTAMP:20260423T054213
CREATED:20260317T162651Z
LAST-MODIFIED:20260317T192501Z
UID:10000175-1785524400-1785533400@thesigprostudio.com
SUMMARY:Nightsweat
DESCRIPTION:
URL:https://thesigprostudio.com/event/nightsweat-35/
CATEGORIES:Nightsweat
END:VEVENT
BEGIN:VEVENT
DTSTART;TZID=America/Halifax:20260801T130000
DTEND;TZID=America/Halifax:20260801T143000
DTSTAMP:20260423T054213
CREATED:20260317T175439Z
LAST-MODIFIED:20260317T191446Z
UID:10000186-1785589200-1785594600@thesigprostudio.com
SUMMARY:Nightsweat
DESCRIPTION:
URL:https://thesigprostudio.com/event/nightsweat-46/
CATEGORIES:Nightsweat
END:VEVENT
BEGIN:VEVENT
DTSTART;TZID=America/Halifax:20260801T190000
DTEND;TZID=America/Halifax:20260801T213000
DTSTAMP:20260423T054213
CREATED:20260317T162733Z
LAST-MODIFIED:20260317T192457Z
UID:10000176-1785610800-1785619800@thesigprostudio.com
SUMMARY:Nightsweat
DESCRIPTION:
URL:https://thesigprostudio.com/event/nightsweat-36/
CATEGORIES:Nightsweat
END:VEVENT
BEGIN:VEVENT
DTSTART;TZID=America/Halifax:20260804T190000
DTEND;TZID=America/Halifax:20260804T213000
DTSTAMP:20260423T054213
CREATED:20260317T162812Z
LAST-MODIFIED:20260317T192451Z
UID:10000177-1785870000-1785879000@thesigprostudio.com
SUMMARY:Nightsweat
DESCRIPTION:
URL:https://thesigprostudio.com/event/nightsweat-37/
CATEGORIES:Nightsweat
END:VEVENT
BEGIN:VEVENT
DTSTART;TZID=America/Halifax:20260805T190000
DTEND;TZID=America/Halifax:20260805T213000
DTSTAMP:20260423T054213
CREATED:20260317T162843Z
LAST-MODIFIED:20260317T192445Z
UID:10000178-1785956400-1785965400@thesigprostudio.com
SUMMARY:Nightsweat
DESCRIPTION:
URL:https://thesigprostudio.com/event/nightsweat-38/
CATEGORIES:Nightsweat
END:VEVENT
BEGIN:VEVENT
DTSTART;TZID=America/Halifax:20260806T130000
DTEND;TZID=America/Halifax:20260806T130000
DTSTAMP:20260423T054213
CREATED:20260317T175335Z
LAST-MODIFIED:20260408T153128Z
UID:10000185-1786021200-1786021200@thesigprostudio.com
SUMMARY:Nightsweat Talkback
DESCRIPTION:
URL:https://thesigprostudio.com/event/nightsweat-45/
CATEGORIES:Nightsweat
END:VEVENT
BEGIN:VEVENT
DTSTART;TZID=America/Halifax:20260806T190000
DTEND;TZID=America/Halifax:20260806T213000
DTSTAMP:20260423T054213
CREATED:20260317T162927Z
LAST-MODIFIED:20260317T192401Z
UID:10000179-1786042800-1786051800@thesigprostudio.com
SUMMARY:Nightsweat
DESCRIPTION:
URL:https://thesigprostudio.com/event/nightsweat-39/
CATEGORIES:Nightsweat
END:VEVENT
BEGIN:VEVENT
DTSTART;TZID=America/Halifax:20260807T190000
DTEND;TZID=America/Halifax:20260807T213000
DTSTAMP:20260423T054213
CREATED:20260317T163008Z
LAST-MODIFIED:20260317T192356Z
UID:10000180-1786129200-1786138200@thesigprostudio.com
SUMMARY:Nightsweat
DESCRIPTION:
URL:https://thesigprostudio.com/event/nightsweat-40/
CATEGORIES:Nightsweat
END:VEVENT
BEGIN:VEVENT
DTSTART;TZID=America/Halifax:20260808T190000
DTEND;TZID=America/Halifax:20260808T190000
DTSTAMP:20260423T054213
CREATED:20260317T163053Z
LAST-MODIFIED:20260408T153118Z
UID:10000181-1786215600-1786215600@thesigprostudio.com
SUMMARY:Nightsweat Closing
DESCRIPTION:
URL:https://thesigprostudio.com/event/nightsweat-41/
CATEGORIES:Nightsweat
END:VEVENT
BEGIN:VEVENT
DTSTART;TZID=America/Halifax:20260915T190000
DTEND;TZID=America/Halifax:20260915T190000
DTSTAMP:20260423T054213
CREATED:20260406T173522Z
LAST-MODIFIED:20260420T190613Z
UID:10000137-1789498800-1789498800@thesigprostudio.com
SUMMARY:Chicken and BiscuitsPreview
DESCRIPTION:
URL:https://thesigprostudio.com/event/chicken-and-biscuits/
CATEGORIES:Chicken & Biscuits
END:VEVENT
BEGIN:VEVENT
DTSTART;TZID=America/Halifax:20260916T190000
DTEND;TZID=America/Halifax:20260916T190000
DTSTAMP:20260423T054213
CREATED:20260406T173553Z
LAST-MODIFIED:20260420T190623Z
UID:10000189-1789585200-1789585200@thesigprostudio.com
SUMMARY:Chicken and BiscuitsPreview
DESCRIPTION:
URL:https://thesigprostudio.com/event/chicken-and-biscuits-2/
CATEGORIES:Chicken & Biscuits
END:VEVENT
BEGIN:VEVENT
DTSTART;TZID=America/Halifax:20260917T190000
DTEND;TZID=America/Halifax:20260917T190000
DTSTAMP:20260423T054213
CREATED:20260406T173051Z
LAST-MODIFIED:20260420T190629Z
UID:10000190-1789671600-1789671600@thesigprostudio.com
SUMMARY:Chicken and BiscuitsPreview
DESCRIPTION:
URL:https://thesigprostudio.com/event/chicken-and-biscuits-3/
CATEGORIES:Chicken & Biscuits
END:VEVENT
BEGIN:VEVENT
DTSTART;TZID=America/Halifax:20260918T190000
DTEND;TZID=America/Halifax:20260918T190000
DTSTAMP:20260423T054213
CREATED:20260406T173655Z
LAST-MODIFIED:20260420T190637Z
UID:10000191-1789758000-1789758000@thesigprostudio.com
SUMMARY:Chicken and BiscuitsOpening
DESCRIPTION:
URL:https://thesigprostudio.com/event/chicken-and-biscuits-4/
CATEGORIES:Chicken & Biscuits
END:VEVENT
BEGIN:VEVENT
DTSTART;TZID=America/Halifax:20260919T190000
DTEND;TZID=America/Halifax:20260919T190000
DTSTAMP:20260423T054213
CREATED:20260406T173727Z
LAST-MODIFIED:20260420T172516Z
UID:10000193-1789844400-1789844400@thesigprostudio.com
SUMMARY:Chicken and Biscuits
DESCRIPTION:
URL:https://thesigprostudio.com/event/chicken-and-biscuits-6/
CATEGORIES:Chicken & Biscuits
END:VEVENT
BEGIN:VEVENT
DTSTART;TZID=America/Halifax:20260922T190000
DTEND;TZID=America/Halifax:20260922T190000
DTSTAMP:20260423T054213
CREATED:20260406T173020Z
LAST-MODIFIED:20260420T172823Z
UID:10000192-1790103600-1790103600@thesigprostudio.com
SUMMARY:Chicken and Biscuits
DESCRIPTION:
URL:https://thesigprostudio.com/event/chicken-and-biscuits-5/
CATEGORIES:Chicken & Biscuits
END:VEVENT
BEGIN:VEVENT
DTSTART;TZID=America/Halifax:20260923T190000
DTEND;TZID=America/Halifax:20260923T190000
DTSTAMP:20260423T054213
CREATED:20260406T173841Z
LAST-MODIFIED:20260420T172510Z
UID:10000194-1790190000-1790190000@thesigprostudio.com
SUMMARY:Chicken and Biscuits
DESCRIPTION:
URL:https://thesigprostudio.com/event/chicken-and-biscuits-7/
CATEGORIES:Chicken & Biscuits
END:VEVENT
BEGIN:VEVENT
DTSTART;TZID=America/Halifax:20260924T190000
DTEND;TZID=America/Halifax:20260924T190000
DTSTAMP:20260423T054213
CREATED:20260406T173224Z
LAST-MODIFIED:20260420T172805Z
UID:10000195-1790276400-1790276400@thesigprostudio.com
SUMMARY:Chicken and Biscuits
DESCRIPTION:
URL:https://thesigprostudio.com/event/chicken-and-biscuits-8/
CATEGORIES:Chicken & Biscuits
END:VEVENT
BEGIN:VEVENT
DTSTART;TZID=America/Halifax:20260925T190000
DTEND;TZID=America/Halifax:20260925T190000
DTSTAMP:20260423T054213
CREATED:20260406T180017Z
LAST-MODIFIED:20260407T195055Z
UID:10000196-1790362800-1790362800@thesigprostudio.com
SUMMARY:Chicken and Biscuits
DESCRIPTION:
URL:https://thesigprostudio.com/event/chicken-and-biscuits-9/
CATEGORIES:Chicken & Biscuits
END:VEVENT
BEGIN:VEVENT
DTSTART;TZID=America/Halifax:20260926T130000
DTEND;TZID=America/Halifax:20260926T130000
DTSTAMP:20260423T054213
CREATED:20260406T180018Z
LAST-MODIFIED:20260420T172130Z
UID:10000217-1790427600-1790427600@thesigprostudio.com
SUMMARY:Chicken and Biscuits
DESCRIPTION:
URL:https://thesigprostudio.com/event/chicken-and-biscuits-30/
CATEGORIES:Chicken & Biscuits
END:VEVENT
BEGIN:VEVENT
DTSTART;TZID=America/Halifax:20260926T190000
DTEND;TZID=America/Halifax:20260926T190000
DTSTAMP:20260423T054213
CREATED:20260406T180038Z
LAST-MODIFIED:20260420T171936Z
UID:10000197-1790449200-1790449200@thesigprostudio.com
SUMMARY:Chicken and Biscuits
DESCRIPTION:
URL:https://thesigprostudio.com/event/chicken-and-biscuits-10/
CATEGORIES:Chicken & Biscuits
END:VEVENT
BEGIN:VEVENT
DTSTART;TZID=America/Halifax:20260930T190000
DTEND;TZID=America/Halifax:20260930T190000
DTSTAMP:20260423T054213
CREATED:20260406T180013Z
LAST-MODIFIED:20260420T172320Z
UID:10000198-1790794800-1790794800@thesigprostudio.com
SUMMARY:Chicken and Biscuits
DESCRIPTION:
URL:https://thesigprostudio.com/event/chicken-and-biscuits-11/
CATEGORIES:Chicken & Biscuits
END:VEVENT
BEGIN:VEVENT
DTSTART;TZID=America/Halifax:20261001T130000
DTEND;TZID=America/Halifax:20261001T130000
DTSTAMP:20260423T054213
CREATED:20260406T180045Z
LAST-MODIFIED:20260420T190712Z
UID:10000218-1790859600-1790859600@thesigprostudio.com
SUMMARY:Chicken and BiscuitsTalkback
DESCRIPTION:
URL:https://thesigprostudio.com/event/chicken-and-biscuits-31/
CATEGORIES:Chicken & Biscuits
END:VEVENT
BEGIN:VEVENT
DTSTART;TZID=America/Halifax:20261001T190000
DTEND;TZID=America/Halifax:20261001T190000
DTSTAMP:20260423T054213
CREATED:20260406T180043Z
LAST-MODIFIED:20260420T171910Z
UID:10000199-1790881200-1790881200@thesigprostudio.com
SUMMARY:Chicken and Biscuits
DESCRIPTION:
URL:https://thesigprostudio.com/event/chicken-and-biscuits-12/
CATEGORIES:Chicken & Biscuits
END:VEVENT
BEGIN:VEVENT
DTSTART;TZID=America/Halifax:20261002T190000
DTEND;TZID=America/Halifax:20261002T190000
DTSTAMP:20260423T054213
CREATED:20260406T180004Z
LAST-MODIFIED:20260420T172508Z
UID:10000200-1790967600-1790967600@thesigprostudio.com
SUMMARY:Chicken and Biscuits
DESCRIPTION:
URL:https://thesigprostudio.com/event/chicken-and-biscuits-13/
CATEGORIES:Chicken & Biscuits
END:VEVENT
BEGIN:VEVENT
DTSTART;TZID=America/Halifax:20261003T130000
DTEND;TZID=America/Halifax:20261003T130000
DTSTAMP:20260423T054213
CREATED:20260406T180016Z
LAST-MODIFIED:20260420T172259Z
UID:10000219-1791032400-1791032400@thesigprostudio.com
SUMMARY:Chicken and Biscuits
DESCRIPTION:
URL:https://thesigprostudio.com/event/chicken-and-biscuits-32/
CATEGORIES:Chicken & Biscuits
END:VEVENT
BEGIN:VEVENT
DTSTART;TZID=America/Halifax:20261003T190000
DTEND;TZID=America/Halifax:20261003T190000
DTSTAMP:20260423T054213
CREATED:20260406T180037Z
LAST-MODIFIED:20260420T171939Z
UID:10000201-1791054000-1791054000@thesigprostudio.com
SUMMARY:Chicken and Biscuits
DESCRIPTION:
URL:https://thesigprostudio.com/event/chicken-and-biscuits-14/
CATEGORIES:Chicken & Biscuits
END:VEVENT
END:VCALENDAR